BEGIN:VCALENDAR
VERSION:2.0
PRODID:-//Boys &amp; Girls Clubs of Greater Dallas - ECPv6.15.19//NONSGML v1.0//EN
CALSCALE:GREGORIAN
METHOD:PUBLISH
X-ORIGINAL-URL:https://www.bgcdallas.org
X-WR-CALDESC:Events for Boys &amp; Girls Clubs of Greater Dallas
REFRESH-INTERVAL;VALUE=DURATION:PT1H
X-Robots-Tag:noindex
X-PUBLISHED-TTL:PT1H
BEGIN:VTIMEZONE
TZID:America/Chicago
BEGIN:DAYLIGHT
TZOFFSETFROM:-0600
TZOFFSETTO:-0500
TZNAME:CDT
DTSTART:20230312T080000
END:DAYLIGHT
BEGIN:STANDARD
TZOFFSETFROM:-0500
TZOFFSETTO:-0600
TZNAME:CST
DTSTART:20231105T070000
END:STANDARD
BEGIN:DAYLIGHT
TZOFFSETFROM:-0600
TZOFFSETTO:-0500
TZNAME:CDT
DTSTART:20240310T080000
END:DAYLIGHT
BEGIN:STANDARD
TZOFFSETFROM:-0500
TZOFFSETTO:-0600
TZNAME:CST
DTSTART:20241103T070000
END:STANDARD
BEGIN:DAYLIGHT
TZOFFSETFROM:-0600
TZOFFSETTO:-0500
TZNAME:CDT
DTSTART:20250309T080000
END:DAYLIGHT
BEGIN:STANDARD
TZOFFSETFROM:-0500
TZOFFSETTO:-0600
TZNAME:CST
DTSTART:20251102T070000
END:STANDARD
END:VTIMEZONE
BEGIN:VEVENT
DTSTART;TZID=America/Chicago:20240803T100000
DTEND;TZID=America/Chicago:20240803T130000
DTSTAMP:20260421T092316
CREATED:20240725T172217Z
LAST-MODIFIED:20240725T172218Z
UID:6972-1722679200-1722690000@www.bgcdallas.org
SUMMARY:School Supply Giveaway and Back-to-School Resource Fair
DESCRIPTION:BGCD is partnering with Pilgrim Rest Baptist Church for a Back to School Resource Fair! 🎒🎉 Join us on Saturday\, August 3\, from 10 AM to 1 PM for a day filled with food\, games\, and a school supply giveaway! Don’t miss out on this fantastic community event. Register now at https://bit.ly/4fkAiRS.  \n\n\n\nIf you want to sign up for after-school care for the 2024-2025 school year\, please visit bgcdallas.org/afterschool.
URL:https://www.bgcdallas.org/event/school-supply-giveaway/
LOCATION:Pilgrim Rest Baptist Church\, 1819 N. Washington Ave\, Dallas\, Texas\, 75204
CATEGORIES:Organizational Wide,Third-party Event
ATTACH;FMTTYPE=image/png:https://www.bgcdallas.org/wp-content/uploads/2024/07/Back-to-School-Resource-Fair-610-x-200-px.png
ORGANIZER;CN="BGCD Programs":MAILTO:info@bgcdallas.org
END:VEVENT
END:VCALENDAR