BEGIN:VCALENDAR
VERSION:2.0
PRODID:-//Boys &amp; Girls Clubs of Greater Dallas - ECPv6.15.19//NONSGML v1.0//EN
CALSCALE:GREGORIAN
METHOD:PUBLISH
X-WR-CALNAME:Boys &amp; Girls Clubs of Greater Dallas
X-ORIGINAL-URL:https://www.bgcdallas.org
X-WR-CALDESC:Events for Boys &amp; Girls Clubs of Greater Dallas
REFRESH-INTERVAL;VALUE=DURATION:PT1H
X-Robots-Tag:noindex
X-PUBLISHED-TTL:PT1H
BEGIN:VTIMEZONE
TZID:America/Chicago
BEGIN:DAYLIGHT
TZOFFSETFROM:-0600
TZOFFSETTO:-0500
TZNAME:CDT
DTSTART:20230312T080000
END:DAYLIGHT
BEGIN:STANDARD
TZOFFSETFROM:-0500
TZOFFSETTO:-0600
TZNAME:CST
DTSTART:20231105T070000
END:STANDARD
BEGIN:DAYLIGHT
TZOFFSETFROM:-0600
TZOFFSETTO:-0500
TZNAME:CDT
DTSTART:20240310T080000
END:DAYLIGHT
BEGIN:STANDARD
TZOFFSETFROM:-0500
TZOFFSETTO:-0600
TZNAME:CST
DTSTART:20241103T070000
END:STANDARD
BEGIN:DAYLIGHT
TZOFFSETFROM:-0600
TZOFFSETTO:-0500
TZNAME:CDT
DTSTART:20250309T080000
END:DAYLIGHT
BEGIN:STANDARD
TZOFFSETFROM:-0500
TZOFFSETTO:-0600
TZNAME:CST
DTSTART:20251102T070000
END:STANDARD
END:VTIMEZONE
BEGIN:VEVENT
DTSTART;TZID=America/Chicago:20240919T190000
DTEND;TZID=America/Chicago:20240919T220000
DTSTAMP:20260423T110108
CREATED:20240430T205343Z
LAST-MODIFIED:20240530T211705Z
UID:6783-1726772400-1726783200@www.bgcdallas.org
SUMMARY:Foodiepalooza 2024
DESCRIPTION:Save the Date for the 11th Annual Foodiepalooza benefiting Boys & Girls Clubs of Greater Dallas (BGCD) at East Dallas. The event features food and beverage sampling stations with silent and live auctions. Help support the kids and programs at the Club by donating a premier auction item or as a corporate or individual sponsor. Sponsorship and ticket information is available at bgcdallas.org/foodiepalooza.
URL:https://www.bgcdallas.org/event/foodiepalooza-2024/
LOCATION:Filter Building on White Rock Lake\, 2810 White Rock Road\, Dallas\, TX\, 75214\, United States
CATEGORIES:Fundraiser,Gala,Organizational Wide
ATTACH;FMTTYPE=image/png:https://www.bgcdallas.org/wp-content/uploads/2024/04/Screenshot-2024-04-30-155218-e1716230326271.png
END:VEVENT
END:VCALENDAR