BEGIN:VCALENDAR
VERSION:2.0
PRODID:-//Boys &amp; Girls Clubs of Greater Dallas - ECPv6.15.19//NONSGML v1.0//EN
CALSCALE:GREGORIAN
METHOD:PUBLISH
X-WR-CALNAME:Boys &amp; Girls Clubs of Greater Dallas
X-ORIGINAL-URL:https://www.bgcdallas.org
X-WR-CALDESC:Events for Boys &amp; Girls Clubs of Greater Dallas
REFRESH-INTERVAL;VALUE=DURATION:PT1H
X-Robots-Tag:noindex
X-PUBLISHED-TTL:PT1H
BEGIN:VTIMEZONE
TZID:America/Chicago
BEGIN:DAYLIGHT
TZOFFSETFROM:-0600
TZOFFSETTO:-0500
TZNAME:CDT
DTSTART:20220313T080000
END:DAYLIGHT
BEGIN:STANDARD
TZOFFSETFROM:-0500
TZOFFSETTO:-0600
TZNAME:CST
DTSTART:20221106T070000
END:STANDARD
BEGIN:DAYLIGHT
TZOFFSETFROM:-0600
TZOFFSETTO:-0500
TZNAME:CDT
DTSTART:20230312T080000
END:DAYLIGHT
BEGIN:STANDARD
TZOFFSETFROM:-0500
TZOFFSETTO:-0600
TZNAME:CST
DTSTART:20231105T070000
END:STANDARD
BEGIN:DAYLIGHT
TZOFFSETFROM:-0600
TZOFFSETTO:-0500
TZNAME:CDT
DTSTART:20240310T080000
END:DAYLIGHT
BEGIN:STANDARD
TZOFFSETFROM:-0500
TZOFFSETTO:-0600
TZNAME:CST
DTSTART:20241103T070000
END:STANDARD
END:VTIMEZONE
BEGIN:VEVENT
DTSTART;TZID=America/Chicago:20230608T180000
DTEND;TZID=America/Chicago:20230608T193000
DTSTAMP:20260421T090824
CREATED:20230530T164155Z
LAST-MODIFIED:20230606T200420Z
UID:5468-1686247200-1686252600@www.bgcdallas.org
SUMMARY:Community Conversations - Authentically You
DESCRIPTION:Join us for our June Community Conversations\, Authentically You. This month\, we will be discussing topics surrounding how to show up as yourself in a variety of settings! We have a few panelists preparing to share their experiences on how they stay authentic in challenging spaces.
URL:https://www.bgcdallas.org/event/community-conversations-authentically-you/
LOCATION:West Dallas Club\, 2060 Singleton Blvd.\, Suite 104\, Dallas\, --Select--\, 75212\, United States
ATTACH;FMTTYPE=image/png:https://www.bgcdallas.org/wp-content/uploads/2023/05/Copy-of-Community-Conversations-Facebook-Event-Cover-4.png
END:VEVENT
END:VCALENDAR